BEGIN:VCALENDAR
VERSION:2.0
PRODID:-//wp-events-plugin.com//7.2.3.1//EN
TZID:Europe/Berlin
X-WR-TIMEZONE:Europe/Berlin
BEGIN:VEVENT
UID:77@esd-m-fuerstenried.de
DTSTART;TZID=Europe/Berlin:20231115T140000
DTEND;TZID=Europe/Berlin:20231115T160000
DTSTAMP:20230823T131509Z
URL:https://esd-m-fuerstenried.de/veranstaltungen/belehrung-hygiene-und-ar
 beitsschutz-im-asz/
SUMMARY:Besichtigung: "Seniorenzentrum Marie-Anne-Clauss"
DESCRIPTION:Lernen Sie das nahe gelegene Seniorenzentrum in Fürstenried ke
 nnen\, in dem großer Wert auf eine ganzheitliche\, aktivierende Pflege zu
 r Erhaltung der Selbstständigkeit gelegt wird.\n\nTreffpunkt im ASZ um 13
 .30 Uhr!\n\nReferentinnen: Daniela Viertel\, Einrichtungsleitung\, und Tin
 a Altmann\, Pflegeüberleitung\nKosten: MVV\, Anmeldung ab 25.10.23.
CATEGORIES:Alten- und Servicezentrum
END:VEVENT
BEGIN:VTIMEZONE
TZID:Europe/Berlin
X-LIC-LOCATION:Europe/Berlin
BEGIN:STANDARD
DTSTART:20231029T020000
TZOFFSETFROM:+0200
TZOFFSETTO:+0100
TZNAME:CET
END:STANDARD
END:VTIMEZONE
END:VCALENDAR