BEGIN:VCALENDAR
VERSION:2.0
PRODID:-//wp-events-plugin.com//7.2.3.1//EN
TZID:Europe/Berlin
X-WR-TIMEZONE:Europe/Berlin
BEGIN:VEVENT
UID:215@esd-m-fuerstenried.de
DTSTART;TZID=Europe/Berlin:20260314T100000
DTEND;TZID=Europe/Berlin:20260314T150000
DTSTAMP:20251211T092723Z
URL:https://esd-m-fuerstenried.de/veranstaltungen/benefiz-flohmarkt-des-in
 ner-wheel-club-muenchen-bavaria-4/
SUMMARY:Benefiz-Flohmarkt des Inner Wheel Club München-Bavaria
DESCRIPTION:Hier können Sie hochwertige Kleidungsstücke und Haushaltsgege
 nstände\nzu einem günstigen Preis erstehen. Alle Verkaufsstände werden 
 von den\nVeranstalterinnen bestückt. Auch für das leibliche Wohl ist ges
 orgt
CATEGORIES:Alten- und Servicezentrum
END:VEVENT
BEGIN:VTIMEZONE
TZID:Europe/Berlin
X-LIC-LOCATION:Europe/Berlin
BEGIN:STANDARD
DTSTART:20251026T020000
TZOFFSETFROM:+0200
TZOFFSETTO:+0100
TZNAME:CET
END:STANDARD
END:VTIMEZONE
END:VCALENDAR