BEGIN:VCALENDAR
VERSION:2.0
PRODID:-//wp-events-plugin.com//7.2.3.1//EN
TZID:Europe/Berlin
X-WR-TIMEZONE:Europe/Berlin
BEGIN:VEVENT
UID:138@esd-m-fuerstenried.de
DTSTART;TZID=Europe/Berlin:20240724T140000
DTEND;TZID=Europe/Berlin:20240724T153000
DTSTAMP:20240416T113013Z
URL:https://esd-m-fuerstenried.de/veranstaltungen/bildervortrag-land-jense
 its-des-jordan/
SUMMARY:BILDERVORTRAG: "LAND JENSEITS DES JORDAN"
DESCRIPTION:Jordanien - ein Land\, das vom Jordan bis zu den Weiten der ara
 bischen Wüste reicht. Ein Land\, in dem sich einstmals die bedeutenden Ka
 rawanenstraßen kreuzten. Die Reise führt uns aber auch in eine der faszi
 nierendsten Wüstenlandschaften des Orients\, dem Wadi Rum.\n\nReferent: D
 ieter Messerle\nKosten: 3\,00 €\, Anmeldung ab 03.07.24.
CATEGORIES:Alten- und Servicezentrum
END:VEVENT
BEGIN:VTIMEZONE
TZID:Europe/Berlin
X-LIC-LOCATION:Europe/Berlin
BEGIN:DAYLIGHT
DTSTART:20240331T030000
TZOFFSETFROM:+0100
TZOFFSETTO:+0200
TZNAME:CEST
END:DAYLIGHT
END:VTIMEZONE
END:VCALENDAR