BEGIN:VCALENDAR
VERSION:2.0
PRODID:-//wp-events-plugin.com//7.2.3.1//EN
TZID:Europe/Berlin
X-WR-TIMEZONE:Europe/Berlin
BEGIN:VEVENT
UID:219@esd-m-fuerstenried.de
DTSTART;TZID=Europe/Berlin:20260408T140000
DTEND;TZID=Europe/Berlin:20260408T160000
DTSTAMP:20251211T092830Z
URL:https://esd-m-fuerstenried.de/veranstaltungen/veranstaltung-die-beatle
 s-ueberrollen-die-welt/
SUMMARY:Veranstaltung: "Die Beatles überrollen die Welt"
DESCRIPTION:Die Beatles erobern die Welt und verdrängen den Rock‘n‘Rol
 l in\nder gesamten Welt. Ein Vortrag\, der mit vielen Beispielen die groß
 artige Karriere\nder Beatles noch einmal Revue passieren lässt. Songs\, d
 ie unser Leben\nbegleitet haben. In der Pause gibt es Kaffee und Kuchen.\n
 Referent: Charly Henghuber\nKosten: 8\,00 €. Anmelden ab 18.03
CATEGORIES:Alten- und Servicezentrum
END:VEVENT
BEGIN:VTIMEZONE
TZID:Europe/Berlin
X-LIC-LOCATION:Europe/Berlin
BEGIN:DAYLIGHT
DTSTART:20260329T030000
TZOFFSETFROM:+0100
TZOFFSETTO:+0200
TZNAME:CEST
END:DAYLIGHT
END:VTIMEZONE
END:VCALENDAR