BEGIN:VCALENDAR
VERSION:2.0
PRODID:-//wp-events-plugin.com//7.2.3.1//EN
TZID:Europe/Berlin
X-WR-TIMEZONE:Europe/Berlin
BEGIN:VEVENT
UID:218@esd-m-fuerstenried.de
DTSTART;TZID=Europe/Berlin:20260401T140000
DTEND;TZID=Europe/Berlin:20260401T160000
DTSTAMP:20251211T092745Z
URL:https://esd-m-fuerstenried.de/veranstaltungen/veranstaltung-mit-witz-h
 umor-und-guter-laune/
SUMMARY:Veranstaltung: "Mit Witz\, Humor und guter Laune"
DESCRIPTION:In seinem humorvollen Programm präsentiert Markus Maria Winkle
 r\nwitzige Balladen und lustige Gedichte von Joachim Ringelnatz\, Christia
 n Morgenstern\,\nWilhelm Busch und vielen mehr. Gewürzt wird das amüsant
 e\nProgramm mit heiteren Anekdoten über die Literaten. Freuen Sie sich au
 f\nHumor\, Komik und Satire. Im Anschluss gibt es Kaffee und Kuchen.\nRefe
 rent: Markus Maria Winkler - Schauspieler\nKosten: 8\,00 €. Anmeldung ab
  11.03
CATEGORIES:Alten- und Servicezentrum
END:VEVENT
BEGIN:VTIMEZONE
TZID:Europe/Berlin
X-LIC-LOCATION:Europe/Berlin
BEGIN:DAYLIGHT
DTSTART:20260329T030000
TZOFFSETFROM:+0100
TZOFFSETTO:+0200
TZNAME:CEST
END:DAYLIGHT
END:VTIMEZONE
END:VCALENDAR