BEGIN:VCALENDAR
VERSION:2.0
PRODID:-//wp-events-plugin.com//7.2.3.1//EN
TZID:Europe/Berlin
X-WR-TIMEZONE:Europe/Berlin
BEGIN:VEVENT
UID:216@esd-m-fuerstenried.de
DTSTART;TZID=Europe/Berlin:20260319T140000
DTEND;TZID=Europe/Berlin:20260319T160000
DTSTAMP:20251211T092735Z
URL:https://esd-m-fuerstenried.de/veranstaltungen/veranstaltung-osterbaste
 ln/
SUMMARY:Veranstaltung: "Osterbasteln"
DESCRIPTION:Passend zum nahenden Frühling haben Sie bei Kaffee und Osterpi
 nza die\nMöglichkeit\, schönen Osterschmuck zu basteln. Bastelmaterialie
 n dürfen\ngerne auch mitgebracht werden.\nReferentin: Christine Czasch\nK
 osten: 10\,00 €. Anmeldung ab 26.02. mit Vorkasse
CATEGORIES:Alten- und Servicezentrum
END:VEVENT
BEGIN:VTIMEZONE
TZID:Europe/Berlin
X-LIC-LOCATION:Europe/Berlin
BEGIN:STANDARD
DTSTART:20251026T020000
TZOFFSETFROM:+0200
TZOFFSETTO:+0100
TZNAME:CET
END:STANDARD
END:VTIMEZONE
END:VCALENDAR