BEGIN:VCALENDAR
VERSION:2.0
PRODID:-//wp-events-plugin.com//7.2.3.1//EN
TZID:Europe/Berlin
X-WR-TIMEZONE:Europe/Berlin
BEGIN:VEVENT
UID:214@esd-m-fuerstenried.de
DTSTART;TZID=Europe/Berlin:20260312T140000
DTEND;TZID=Europe/Berlin:20260312T153000
DTSTAMP:20260205T163229Z
URL:https://esd-m-fuerstenried.de/veranstaltungen/veranstaltung-vorstellun
 g-der-angebote-der-muenchener-vhs/
SUMMARY:Veranstaltung: Vorstellung der Angebote der Münchener VHS
DESCRIPTION:Die Senioren-Volkshochschule im Münchner Süden stellt sich vo
 r.\nSie haben an diesem Nachmittag die Möglichkeit\, sich im persönliche
 n Gespräch\nmit Mitarbeitenden der Münchner Volkshochschule einen Überb
 lick über\ndas Kursangebot\, Anmeldung und Buchung sowie Preise und Ermä
 ßigungen\nzu verschaffen.\nReferentin: Anh Van Nguyen\, Senioren-VHS\nKos
 ten: Keine. Anmeldung ab 19.02.
CATEGORIES:Alten- und Servicezentrum
END:VEVENT
BEGIN:VTIMEZONE
TZID:Europe/Berlin
X-LIC-LOCATION:Europe/Berlin
BEGIN:STANDARD
DTSTART:20251026T020000
TZOFFSETFROM:+0200
TZOFFSETTO:+0100
TZNAME:CET
END:STANDARD
END:VTIMEZONE
END:VCALENDAR