BEGIN:VCALENDAR
VERSION:2.0
PRODID:-//wp-events-plugin.com//7.2.3.1//EN
TZID:Europe/Berlin
X-WR-TIMEZONE:Europe/Berlin
BEGIN:VEVENT
UID:213@esd-m-fuerstenried.de
DTSTART;TZID=Europe/Berlin:20260311T140000
DTEND;TZID=Europe/Berlin:20260311T160000
DTSTAMP:20251211T092705Z
URL:https://esd-m-fuerstenried.de/veranstaltungen/vortrag-abschiedsrituale
 -in-verschiedenen-kulturen/
SUMMARY:Vortrag: "Abschiedsrituale in verschiedenen Kulturen"
DESCRIPTION:Wenn ein Mensch stirbt\, ist es\, als würde ein Buch geschloss
 en werden –\nund jede Kultur schreibt das letzte Kapitel auf ihre eigene
  Weise\, geprägt\nvon Religion\, Tradition sowie dem Verständnis von Leb
 en und Tod.\nIn diesem Vortrag erfahren Sie mehr über Bestattungen und Tr
 auerphasen in\nverschiedenen Kulturen.\nReferentin: Sandra Flittner\, Trau
 erhilfe Denk\nKosten: 3\,00 €. Anmeldung ab 18.02.
CATEGORIES:Alten- und Servicezentrum
END:VEVENT
BEGIN:VTIMEZONE
TZID:Europe/Berlin
X-LIC-LOCATION:Europe/Berlin
BEGIN:STANDARD
DTSTART:20251026T020000
TZOFFSETFROM:+0200
TZOFFSETTO:+0100
TZNAME:CET
END:STANDARD
END:VTIMEZONE
END:VCALENDAR