BEGIN:VCALENDAR
VERSION:2.0
PRODID:-//wp-events-plugin.com//7.2.3.1//EN
TZID:Europe/Berlin
X-WR-TIMEZONE:Europe/Berlin
BEGIN:VEVENT
UID:144@esd-m-fuerstenried.de
DTSTART;TZID=Europe/Berlin:20240515T140000
DTEND;TZID=Europe/Berlin:20240515T153000
DTSTAMP:20240422T130837Z
URL:https://esd-m-fuerstenried.de/veranstaltungen/vortrag-nie-wieder-aerge
 r-mit-handwerkenden-co/
SUMMARY:VORTRAG: "NIE WIEDER ÄRGER MIT HANDWERKENDEN & CO"
DESCRIPTION:Ein frischer Anstrich für die Küche\, eine neue Dusche für d
 as Bad oder eine ins Schloss gefallene Haustür: Wer Profis beauftragt\, w
 ill sich Zeit und Mühe sparen. Doch passiert ein Missgeschick oder entpup
 pt sich der angerufene Notdienst als schwarzes Schaf\, ist der Ärger gro
 ß. In solchen Fällen ist es gut zu wissen\, welche Rechte Sie haben. Der
  Vortrag der Verbraucherzentrale Bayern greift Themen wie Kostenvoranschla
 g\, Preiskalkulation und Sachmängel auf. In Kooperation mit dem ebw 3 Eva
 ngelisches Bildungswerk München\, Projekt Verbraucherbildung Bayern.\n\nR
 eferentin: Petra Krämer-Moshous\, Fachberaterin für Verbraucherfragen\, 
 Verbraucherzentr. Bayern Beratungsst. München e.V.\nKosten: 2\,00 €. An
 meldung ab 24.04.24.
CATEGORIES:Alten- und Servicezentrum
END:VEVENT
BEGIN:VTIMEZONE
TZID:Europe/Berlin
X-LIC-LOCATION:Europe/Berlin
BEGIN:DAYLIGHT
DTSTART:20240331T030000
TZOFFSETFROM:+0100
TZOFFSETTO:+0200
TZNAME:CEST
END:DAYLIGHT
END:VTIMEZONE
END:VCALENDAR